BEGIN:VCALENDAR
VERSION:2.0
PRODID:-//Seattle&#039;s Dutch Language and Culture School - ECPv6.15.20//NONSGML v1.0//EN
CALSCALE:GREGORIAN
METHOD:PUBLISH
X-WR-CALNAME:Seattle&#039;s Dutch Language and Culture School
X-ORIGINAL-URL:https://www.oranjeschool.org
X-WR-CALDESC:Evenementen voor Seattle&#039;s Dutch Language and Culture School
REFRESH-INTERVAL;VALUE=DURATION:PT1H
X-Robots-Tag:noindex
X-PUBLISHED-TTL:PT1H
BEGIN:VTIMEZONE
TZID:America/Los_Angeles
BEGIN:DAYLIGHT
TZOFFSETFROM:-0800
TZOFFSETTO:-0700
TZNAME:PDT
DTSTART:20240310T100000
END:DAYLIGHT
BEGIN:STANDARD
TZOFFSETFROM:-0700
TZOFFSETTO:-0800
TZNAME:PST
DTSTART:20241103T090000
END:STANDARD
BEGIN:DAYLIGHT
TZOFFSETFROM:-0800
TZOFFSETTO:-0700
TZNAME:PDT
DTSTART:20250309T100000
END:DAYLIGHT
BEGIN:STANDARD
TZOFFSETFROM:-0700
TZOFFSETTO:-0800
TZNAME:PST
DTSTART:20251102T090000
END:STANDARD
BEGIN:DAYLIGHT
TZOFFSETFROM:-0800
TZOFFSETTO:-0700
TZNAME:PDT
DTSTART:20260308T100000
END:DAYLIGHT
BEGIN:STANDARD
TZOFFSETFROM:-0700
TZOFFSETTO:-0800
TZNAME:PST
DTSTART:20261101T090000
END:STANDARD
END:VTIMEZONE
BEGIN:VEVENT
DTSTART;TZID=America/Los_Angeles:20251101T093000
DTEND;TZID=America/Los_Angeles:20251101T123000
DTSTAMP:20260423T135009
CREATED:20250725T233404Z
LAST-MODIFIED:20250725T234053Z
UID:1834-1761989400-1762000200@www.oranjeschool.org
SUMMARY:Oranjeschool - Week 9
DESCRIPTION:
URL:https://www.oranjeschool.org/kalender/oranjeschool-week-9-3/
LOCATION:French American School of Puget Sound\, 3795 E Mercer Way\, Mercer Island\, Washington\, 98040\, Verenigde Staten
CATEGORIES:Lestijden
END:VEVENT
BEGIN:VEVENT
DTSTART;TZID=America/Los_Angeles:20251108T093000
DTEND;TZID=America/Los_Angeles:20251108T123000
DTSTAMP:20260423T135009
CREATED:20250725T233404Z
LAST-MODIFIED:20250725T234053Z
UID:1835-1762594200-1762605000@www.oranjeschool.org
SUMMARY:Oranjeschool - Week 10 (ONLINE)
DESCRIPTION:
URL:https://www.oranjeschool.org/kalender/oranjeschool-week-10-online-2/
CATEGORIES:Lestijden
END:VEVENT
BEGIN:VEVENT
DTSTART;TZID=America/Los_Angeles:20251115T093000
DTEND;TZID=America/Los_Angeles:20251115T123000
DTSTAMP:20260423T135009
CREATED:20250725T233419Z
LAST-MODIFIED:20250725T234109Z
UID:1841-1763199000-1763209800@www.oranjeschool.org
SUMMARY:Oranjeschool - Week 11
DESCRIPTION:
URL:https://www.oranjeschool.org/kalender/oranjeschool-week-11-3/
LOCATION:French American School of Puget Sound\, 3795 E Mercer Way\, Mercer Island\, Washington\, 98040\, Verenigde Staten
CATEGORIES:Lestijden
END:VEVENT
BEGIN:VEVENT
DTSTART;TZID=America/Los_Angeles:20251122T093000
DTEND;TZID=America/Los_Angeles:20251122T123000
DTSTAMP:20260423T135009
CREATED:20250725T234109Z
LAST-MODIFIED:20250725T234109Z
UID:1880-1763803800-1763814600@www.oranjeschool.org
SUMMARY:Oranjeschool - Week 12
DESCRIPTION:
URL:https://www.oranjeschool.org/kalender/oranjeschool-week-12-4/
LOCATION:French American School of Puget Sound\, 3795 E Mercer Way\, Mercer Island\, Washington\, 98040\, Verenigde Staten
CATEGORIES:Lestijden
END:VEVENT
BEGIN:VEVENT
DTSTART;TZID=America/Los_Angeles:20251129T093000
DTEND;TZID=America/Los_Angeles:20251129T123000
DTSTAMP:20260423T135009
CREATED:20250725T233420Z
LAST-MODIFIED:20250725T234109Z
UID:1843-1764408600-1764419400@www.oranjeschool.org
SUMMARY:Thanksgiving Break - Geen les
DESCRIPTION:
URL:https://www.oranjeschool.org/kalender/thanksgiving-break-geen-les-3/
CATEGORIES:Lestijden
END:VEVENT
END:VCALENDAR