BEGIN:VCALENDAR
VERSION:2.0
PRODID:-//Seattle&#039;s Dutch Language and Culture School - ECPv6.15.20//NONSGML v1.0//EN
CALSCALE:GREGORIAN
METHOD:PUBLISH
X-WR-CALNAME:Seattle&#039;s Dutch Language and Culture School
X-ORIGINAL-URL:https://www.oranjeschool.org/en
X-WR-CALDESC:Events for Seattle&#039;s Dutch Language and Culture School
REFRESH-INTERVAL;VALUE=DURATION:PT1H
X-Robots-Tag:noindex
X-PUBLISHED-TTL:PT1H
BEGIN:VTIMEZONE
TZID:America/Los_Angeles
BEGIN:DAYLIGHT
TZOFFSETFROM:-0800
TZOFFSETTO:-0700
TZNAME:PDT
DTSTART:20240310T100000
END:DAYLIGHT
BEGIN:STANDARD
TZOFFSETFROM:-0700
TZOFFSETTO:-0800
TZNAME:PST
DTSTART:20241103T090000
END:STANDARD
BEGIN:DAYLIGHT
TZOFFSETFROM:-0800
TZOFFSETTO:-0700
TZNAME:PDT
DTSTART:20250309T100000
END:DAYLIGHT
BEGIN:STANDARD
TZOFFSETFROM:-0700
TZOFFSETTO:-0800
TZNAME:PST
DTSTART:20251102T090000
END:STANDARD
BEGIN:DAYLIGHT
TZOFFSETFROM:-0800
TZOFFSETTO:-0700
TZNAME:PDT
DTSTART:20260308T100000
END:DAYLIGHT
BEGIN:STANDARD
TZOFFSETFROM:-0700
TZOFFSETTO:-0800
TZNAME:PST
DTSTART:20261101T090000
END:STANDARD
END:VTIMEZONE
BEGIN:VEVENT
DTSTART;TZID=America/Los_Angeles:20251101T093000
DTEND;TZID=America/Los_Angeles:20251101T123000
DTSTAMP:20260419T124623
CREATED:20250725T233404Z
LAST-MODIFIED:20250725T234053Z
UID:1834-1761989400-1762000200@www.oranjeschool.org
SUMMARY:Oranjeschool - Week 9
DESCRIPTION:
URL:https://www.oranjeschool.org/en/kalender/oranjeschool-week-9-3/
LOCATION:French American School of Puget Sound\, 3795 E Mercer Way\, Mercer Island\, Washington\, 98040\, Verenigde Staten
CATEGORIES:Lestijden
END:VEVENT
BEGIN:VEVENT
DTSTART;TZID=America/Los_Angeles:20251025T093000
DTEND;TZID=America/Los_Angeles:20251025T123000
DTSTAMP:20260419T124623
CREATED:20250725T233404Z
LAST-MODIFIED:20250725T234053Z
UID:1833-1761384600-1761395400@www.oranjeschool.org
SUMMARY:Oranjeschool - Week 8
DESCRIPTION:
URL:https://www.oranjeschool.org/en/kalender/oranjeschool-week-8-3/
LOCATION:French American School of Puget Sound\, 3795 E Mercer Way\, Mercer Island\, Washington\, 98040\, Verenigde Staten
CATEGORIES:Lestijden
END:VEVENT
BEGIN:VEVENT
DTSTART;TZID=America/Los_Angeles:20251018T093000
DTEND;TZID=America/Los_Angeles:20251018T123000
DTSTAMP:20260419T124623
CREATED:20250725T233404Z
LAST-MODIFIED:20250725T234053Z
UID:1832-1760779800-1760790600@www.oranjeschool.org
SUMMARY:Oranjeschool - Week 7
DESCRIPTION:
URL:https://www.oranjeschool.org/en/kalender/oranjeschool-week-7-3/
LOCATION:French American School of Puget Sound\, 3795 E Mercer Way\, Mercer Island\, Washington\, 98040\, Verenigde Staten
CATEGORIES:Lestijden
END:VEVENT
BEGIN:VEVENT
DTSTART;TZID=America/Los_Angeles:20251011T093000
DTEND;TZID=America/Los_Angeles:20251011T123000
DTSTAMP:20260419T124623
CREATED:20250725T233403Z
LAST-MODIFIED:20250725T234053Z
UID:1831-1760175000-1760185800@www.oranjeschool.org
SUMMARY:Oranjeschool - Week 6
DESCRIPTION:Kinderboekenweek
URL:https://www.oranjeschool.org/en/kalender/oranjeschool-week-6-3/
LOCATION:French American School of Puget Sound\, 3795 E Mercer Way\, Mercer Island\, Washington\, 98040\, Verenigde Staten
CATEGORIES:Culturele evenementen
END:VEVENT
BEGIN:VEVENT
DTSTART;TZID=America/Los_Angeles:20251004T093000
DTEND;TZID=America/Los_Angeles:20251004T123000
DTSTAMP:20260419T124623
CREATED:20250725T233400Z
LAST-MODIFIED:20250725T234050Z
UID:1830-1759570200-1759581000@www.oranjeschool.org
SUMMARY:Oranjeschool - Week 5
DESCRIPTION:
URL:https://www.oranjeschool.org/en/kalender/oranjeschool-week-5-3/
LOCATION:French American School of Puget Sound\, 3795 E Mercer Way\, Mercer Island\, Washington\, 98040\, Verenigde Staten
CATEGORIES:Lestijden
END:VEVENT
BEGIN:VEVENT
DTSTART;TZID=America/Los_Angeles:20250927T093000
DTEND;TZID=America/Los_Angeles:20250927T123000
DTSTAMP:20260419T124623
CREATED:20250725T233400Z
LAST-MODIFIED:20250725T234050Z
UID:1829-1758965400-1758976200@www.oranjeschool.org
SUMMARY:Oranjeschool - Week 4
DESCRIPTION:
URL:https://www.oranjeschool.org/en/kalender/oranjeschool-week-4-3/
LOCATION:French American School of Puget Sound\, 3795 E Mercer Way\, Mercer Island\, Washington\, 98040\, Verenigde Staten
CATEGORIES:Lestijden
END:VEVENT
BEGIN:VEVENT
DTSTART;TZID=America/Los_Angeles:20250920T093000
DTEND;TZID=America/Los_Angeles:20250920T123000
DTSTAMP:20260419T124623
CREATED:20250725T233400Z
LAST-MODIFIED:20250725T234050Z
UID:1828-1758360600-1758371400@www.oranjeschool.org
SUMMARY:Oranjeschool - Week 3
DESCRIPTION:Curriculum ochtend oneven groepen
URL:https://www.oranjeschool.org/en/kalender/oranjeschool-week-3-3/
LOCATION:French American School of Puget Sound\, 3795 E Mercer Way\, Mercer Island\, Washington\, 98040\, Verenigde Staten
CATEGORIES:Lestijden
END:VEVENT
BEGIN:VEVENT
DTSTART;TZID=America/Los_Angeles:20250913T093000
DTEND;TZID=America/Los_Angeles:20250913T123000
DTSTAMP:20260419T124623
CREATED:20250725T233400Z
LAST-MODIFIED:20250725T234050Z
UID:1827-1757755800-1757766600@www.oranjeschool.org
SUMMARY:Oranjeschool - Week 2
DESCRIPTION:Curriculum ochtend even groepen
URL:https://www.oranjeschool.org/en/kalender/oranjeschool-week-2-3/
LOCATION:French American School of Puget Sound\, 3795 E Mercer Way\, Mercer Island\, Washington\, 98040\, Verenigde Staten
CATEGORIES:Lestijden
END:VEVENT
BEGIN:VEVENT
DTSTART;TZID=America/Los_Angeles:20250906T093000
DTEND;TZID=America/Los_Angeles:20250906T123000
DTSTAMP:20260419T124623
CREATED:20250725T233400Z
LAST-MODIFIED:20250725T234050Z
UID:1826-1757151000-1757161800@www.oranjeschool.org
SUMMARY:Oranjeschool - Week 1
DESCRIPTION:Eerste schooldag
URL:https://www.oranjeschool.org/en/kalender/oranjeschool-week-1-3/
LOCATION:French American School of Puget Sound\, 3795 E Mercer Way\, Mercer Island\, Washington\, 98040\, Verenigde Staten
CATEGORIES:Lestijden
END:VEVENT
BEGIN:VEVENT
DTSTART;TZID=America/Los_Angeles:20250830T080000
DTEND;TZID=America/Los_Angeles:20250830T170000
DTSTAMP:20260419T124623
CREATED:20250726T012348Z
LAST-MODIFIED:20250726T012350Z
UID:1923-1756540800-1756573200@www.oranjeschool.org
SUMMARY:
DESCRIPTION:Kick Off leerkrachten in Mercer Island
URL:https://www.oranjeschool.org/en/kalender/1923/
END:VEVENT
END:VCALENDAR