BEGIN:VCALENDAR
VERSION:2.0
PRODID:-//Seattle&#039;s Dutch Language and Culture School - ECPv6.15.20//NONSGML v1.0//EN
CALSCALE:GREGORIAN
METHOD:PUBLISH
X-WR-CALNAME:Seattle&#039;s Dutch Language and Culture School
X-ORIGINAL-URL:https://www.oranjeschool.org/en
X-WR-CALDESC:Events for Seattle&#039;s Dutch Language and Culture School
REFRESH-INTERVAL;VALUE=DURATION:PT1H
X-Robots-Tag:noindex
X-PUBLISHED-TTL:PT1H
BEGIN:VTIMEZONE
TZID:America/Los_Angeles
BEGIN:DAYLIGHT
TZOFFSETFROM:-0800
TZOFFSETTO:-0700
TZNAME:PDT
DTSTART:20240310T100000
END:DAYLIGHT
BEGIN:STANDARD
TZOFFSETFROM:-0700
TZOFFSETTO:-0800
TZNAME:PST
DTSTART:20241103T090000
END:STANDARD
BEGIN:DAYLIGHT
TZOFFSETFROM:-0800
TZOFFSETTO:-0700
TZNAME:PDT
DTSTART:20250309T100000
END:DAYLIGHT
BEGIN:STANDARD
TZOFFSETFROM:-0700
TZOFFSETTO:-0800
TZNAME:PST
DTSTART:20251102T090000
END:STANDARD
BEGIN:DAYLIGHT
TZOFFSETFROM:-0800
TZOFFSETTO:-0700
TZNAME:PDT
DTSTART:20260308T100000
END:DAYLIGHT
BEGIN:STANDARD
TZOFFSETFROM:-0700
TZOFFSETTO:-0800
TZNAME:PST
DTSTART:20261101T090000
END:STANDARD
BEGIN:DAYLIGHT
TZOFFSETFROM:-0800
TZOFFSETTO:-0700
TZNAME:PDT
DTSTART:20270314T100000
END:DAYLIGHT
BEGIN:STANDARD
TZOFFSETFROM:-0700
TZOFFSETTO:-0800
TZNAME:PST
DTSTART:20271107T090000
END:STANDARD
END:VTIMEZONE
BEGIN:VEVENT
DTSTART;TZID=America/Los_Angeles:20260418T093000
DTEND;TZID=America/Los_Angeles:20260418T123000
DTSTAMP:20260419T101201
CREATED:20250725T233602Z
LAST-MODIFIED:20250725T234457Z
UID:1862-1776504600-1776515400@www.oranjeschool.org
SUMMARY:Spring break- Geen les
DESCRIPTION:
URL:https://www.oranjeschool.org/en/kalender/spring-break-geen-les-3/
CATEGORIES:Lestijden
END:VEVENT
BEGIN:VEVENT
DTSTART;TZID=America/Los_Angeles:20260411T093000
DTEND;TZID=America/Los_Angeles:20260411T123000
DTSTAMP:20260419T101201
CREATED:20250725T233602Z
LAST-MODIFIED:20250725T234457Z
UID:1861-1775899800-1775910600@www.oranjeschool.org
SUMMARY:Oranjeschool - Week 29
DESCRIPTION:
URL:https://www.oranjeschool.org/en/kalender/oranjeschool-week-29-3/
LOCATION:French American School of Puget Sound\, 3795 E Mercer Way\, Mercer Island\, Washington\, 98040\, Verenigde Staten
CATEGORIES:Lestijden
END:VEVENT
BEGIN:VEVENT
DTSTART;TZID=America/Los_Angeles:20260404T093000
DTEND;TZID=America/Los_Angeles:20260404T123000
DTSTAMP:20260419T101201
CREATED:20250725T232928Z
LAST-MODIFIED:20250725T234457Z
UID:1778-1775295000-1775305800@www.oranjeschool.org
SUMMARY:Oranjeschool - Week 28
DESCRIPTION:Schrijver op het scherm
URL:https://www.oranjeschool.org/en/kalender/oranjeschool-week-28-2/
LOCATION:French American School of Puget Sound\, 3795 E Mercer Way\, Mercer Island\, Washington\, 98040\, Verenigde Staten
CATEGORIES:Lestijden
END:VEVENT
BEGIN:VEVENT
DTSTART;TZID=America/Los_Angeles:20260328T093000
DTEND;TZID=America/Los_Angeles:20260328T123000
DTSTAMP:20260419T101201
CREATED:20250725T233547Z
LAST-MODIFIED:20250725T234442Z
UID:1860-1774690200-1774701000@www.oranjeschool.org
SUMMARY:Oranjeschool - Week 27
DESCRIPTION:
URL:https://www.oranjeschool.org/en/kalender/oranjeschool-week-27-3/
LOCATION:French American School of Puget Sound\, 3795 E Mercer Way\, Mercer Island\, Washington\, 98040\, Verenigde Staten
CATEGORIES:Lestijden
END:VEVENT
BEGIN:VEVENT
DTSTART;TZID=America/Los_Angeles:20260321T093000
DTEND;TZID=America/Los_Angeles:20260321T123000
DTSTAMP:20260419T101201
CREATED:20250725T233547Z
LAST-MODIFIED:20250725T234442Z
UID:1859-1774085400-1774096200@www.oranjeschool.org
SUMMARY:Oranjeschool - Week 26
DESCRIPTION:
URL:https://www.oranjeschool.org/en/kalender/oranjeschool-week-26-3/
LOCATION:French American School of Puget Sound\, 3795 E Mercer Way\, Mercer Island\, Washington\, 98040\, Verenigde Staten
CATEGORIES:Lestijden
END:VEVENT
BEGIN:VEVENT
DTSTART;TZID=America/Los_Angeles:20260314T093000
DTEND;TZID=America/Los_Angeles:20260314T123000
DTSTAMP:20260419T101201
CREATED:20250725T233547Z
LAST-MODIFIED:20250725T234442Z
UID:1858-1773480600-1773491400@www.oranjeschool.org
SUMMARY:Oranjeschool - Week 25
DESCRIPTION:
URL:https://www.oranjeschool.org/en/kalender/oranjeschool-week-25-3/
LOCATION:French American School of Puget Sound\, 3795 E Mercer Way\, Mercer Island\, Washington\, 98040\, Verenigde Staten
CATEGORIES:Lestijden
END:VEVENT
BEGIN:VEVENT
DTSTART;TZID=America/Los_Angeles:20260307T093000
DTEND;TZID=America/Los_Angeles:20260307T123000
DTSTAMP:20260419T101201
CREATED:20250725T233547Z
LAST-MODIFIED:20250725T234442Z
UID:1857-1772875800-1772886600@www.oranjeschool.org
SUMMARY:Oranjeschool - Week 24 (ONLINE)
DESCRIPTION:Groot Dictee der Nederlandse taal
URL:https://www.oranjeschool.org/en/kalender/oranjeschool-week-24-online-2/
CATEGORIES:Lestijden
END:VEVENT
BEGIN:VEVENT
DTSTART;TZID=America/Los_Angeles:20260228T093000
DTEND;TZID=America/Los_Angeles:20260228T123000
DTSTAMP:20260419T101201
CREATED:20250725T233547Z
LAST-MODIFIED:20250725T234442Z
UID:1856-1772271000-1772281800@www.oranjeschool.org
SUMMARY:Oranjeschool - Week 23
DESCRIPTION:
URL:https://www.oranjeschool.org/en/kalender/oranjeschool-week-23-3/
LOCATION:French American School of Puget Sound\, 3795 E Mercer Way\, Mercer Island\, Washington\, 98040\, Verenigde Staten
CATEGORIES:Lestijden
END:VEVENT
BEGIN:VEVENT
DTSTART;TZID=America/Los_Angeles:20260221T093000
DTEND;TZID=America/Los_Angeles:20260221T123000
DTSTAMP:20260419T101201
CREATED:20250725T233532Z
LAST-MODIFIED:20250725T234323Z
UID:1855-1771666200-1771677000@www.oranjeschool.org
SUMMARY:Oranjeschool - Week 22
DESCRIPTION:
URL:https://www.oranjeschool.org/en/kalender/oranjeschool-week-22-3/
LOCATION:French American School of Puget Sound\, 3795 E Mercer Way\, Mercer Island\, Washington\, 98040\, Verenigde Staten
CATEGORIES:Lestijden
END:VEVENT
BEGIN:VEVENT
DTSTART;TZID=America/Los_Angeles:20260214T093000
DTEND;TZID=America/Los_Angeles:20260214T123000
DTSTAMP:20260419T101201
CREATED:20250725T233532Z
LAST-MODIFIED:20250725T234323Z
UID:1854-1771061400-1771072200@www.oranjeschool.org
SUMMARY:Oranjeschool - Week 21
DESCRIPTION:Presidents Day
URL:https://www.oranjeschool.org/en/kalender/oranjeschool-week-21-3/
LOCATION:French American School of Puget Sound\, 3795 E Mercer Way\, Mercer Island\, Washington\, 98040\, Verenigde Staten
CATEGORIES:Lestijden
END:VEVENT
BEGIN:VEVENT
DTSTART;TZID=America/Los_Angeles:20260207T093000
DTEND;TZID=America/Los_Angeles:20260207T123000
DTSTAMP:20260419T101201
CREATED:20250725T233532Z
LAST-MODIFIED:20250725T234323Z
UID:1853-1770456600-1770467400@www.oranjeschool.org
SUMMARY:Oranjeschool - Week 20
DESCRIPTION:
URL:https://www.oranjeschool.org/en/kalender/oranjeschool-week-20-3/
LOCATION:French American School of Puget Sound\, 3795 E Mercer Way\, Mercer Island\, Washington\, 98040\, Verenigde Staten
CATEGORIES:Lestijden
END:VEVENT
BEGIN:VEVENT
DTSTART;TZID=America/Los_Angeles:20260131T093000
DTEND;TZID=America/Los_Angeles:20260131T123000
DTSTAMP:20260419T101201
CREATED:20250725T233532Z
LAST-MODIFIED:20250725T234323Z
UID:1852-1769851800-1769862600@www.oranjeschool.org
SUMMARY:Oranjeschool - Week 19
DESCRIPTION:
URL:https://www.oranjeschool.org/en/kalender/oranjeschool-week-19-3/
LOCATION:French American School of Puget Sound\, 3795 E Mercer Way\, Mercer Island\, Washington\, 98040\, Verenigde Staten
CATEGORIES:Lestijden
END:VEVENT
BEGIN:VEVENT
DTSTART;TZID=America/Los_Angeles:20260124T093000
DTEND;TZID=America/Los_Angeles:20260124T123000
DTSTAMP:20260419T101201
CREATED:20250725T233532Z
LAST-MODIFIED:20250725T234323Z
UID:1851-1769247000-1769257800@www.oranjeschool.org
SUMMARY:Oranjeschool - Week 18
DESCRIPTION:Nationale Voorleesdagen
URL:https://www.oranjeschool.org/en/kalender/oranjeschool-week-18-3/
LOCATION:French American School of Puget Sound\, 3795 E Mercer Way\, Mercer Island\, Washington\, 98040\, Verenigde Staten
CATEGORIES:Lestijden
END:VEVENT
BEGIN:VEVENT
DTSTART;TZID=America/Los_Angeles:20260117T093000
DTEND;TZID=America/Los_Angeles:20260117T123000
DTSTAMP:20260419T101201
CREATED:20250725T233434Z
LAST-MODIFIED:20250725T234124Z
UID:1850-1768642200-1768653000@www.oranjeschool.org
SUMMARY:Oranjeschool - Week 17
DESCRIPTION:
URL:https://www.oranjeschool.org/en/kalender/oranjeschool-week-17-3/
LOCATION:French American School of Puget Sound\, 3795 E Mercer Way\, Mercer Island\, Washington\, 98040\, Verenigde Staten
CATEGORIES:Lestijden
END:VEVENT
BEGIN:VEVENT
DTSTART;TZID=America/Los_Angeles:20260110T093000
DTEND;TZID=America/Los_Angeles:20260110T123000
DTSTAMP:20260419T101201
CREATED:20250725T233434Z
LAST-MODIFIED:20250725T234124Z
UID:1849-1768037400-1768048200@www.oranjeschool.org
SUMMARY:Oranjeschool - Week 16
DESCRIPTION:
URL:https://www.oranjeschool.org/en/kalender/oranjeschool-week-16-3/
LOCATION:French American School of Puget Sound\, 3795 E Mercer Way\, Mercer Island\, Washington\, 98040\, Verenigde Staten
CATEGORIES:Lestijden
END:VEVENT
BEGIN:VEVENT
DTSTART;TZID=America/Los_Angeles:20260103T093000
DTEND;TZID=America/Los_Angeles:20260103T123000
DTSTAMP:20260419T101201
CREATED:20250725T233434Z
LAST-MODIFIED:20250725T234124Z
UID:1848-1767432600-1767443400@www.oranjeschool.org
SUMMARY:Winter Break - Geen les
DESCRIPTION:
URL:https://www.oranjeschool.org/en/kalender/winter-break-geen-les-6/
CATEGORIES:Lestijden
END:VEVENT
BEGIN:VEVENT
DTSTART;TZID=America/Los_Angeles:20251227T093000
DTEND;TZID=America/Los_Angeles:20251227T123000
DTSTAMP:20260419T101201
CREATED:20250725T233434Z
LAST-MODIFIED:20250725T234124Z
UID:1847-1766827800-1766838600@www.oranjeschool.org
SUMMARY:Winter Break - Geen les
DESCRIPTION:
URL:https://www.oranjeschool.org/en/kalender/winter-break-geen-les-5/
CATEGORIES:Lestijden
END:VEVENT
BEGIN:VEVENT
DTSTART;TZID=America/Los_Angeles:20251220T093000
DTEND;TZID=America/Los_Angeles:20251220T123000
DTSTAMP:20260419T101201
CREATED:20250725T233433Z
LAST-MODIFIED:20250725T234124Z
UID:1846-1766223000-1766233800@www.oranjeschool.org
SUMMARY:Oranjeschool - Week 15
DESCRIPTION:Samen beter leren lezen actie
URL:https://www.oranjeschool.org/en/kalender/oranjeschool-week-15-3/
LOCATION:French American School of Puget Sound\, 3795 E Mercer Way\, Mercer Island\, Washington\, 98040\, Verenigde Staten
CATEGORIES:Lestijden
END:VEVENT
BEGIN:VEVENT
DTSTART;TZID=America/Los_Angeles:20251213T093000
DTEND;TZID=America/Los_Angeles:20251213T123000
DTSTAMP:20260419T101201
CREATED:20250725T233420Z
LAST-MODIFIED:20250725T234109Z
UID:1845-1765618200-1765629000@www.oranjeschool.org
SUMMARY:Oranjeschool - Week 14
DESCRIPTION:
URL:https://www.oranjeschool.org/en/kalender/oranjeschool-week-14-3/
LOCATION:French American School of Puget Sound\, 3795 E Mercer Way\, Mercer Island\, Washington\, 98040\, Verenigde Staten
CATEGORIES:Lestijden
END:VEVENT
BEGIN:VEVENT
DTSTART;TZID=America/Los_Angeles:20251206T093000
DTEND;TZID=America/Los_Angeles:20251206T123000
DTSTAMP:20260419T101201
CREATED:20250725T233420Z
LAST-MODIFIED:20250725T234109Z
UID:1844-1765013400-1765024200@www.oranjeschool.org
SUMMARY:Oranjeschool - Week 13
DESCRIPTION:Sinterklaas
URL:https://www.oranjeschool.org/en/kalender/oranjeschool-week-13-2/
LOCATION:French American School of Puget Sound\, 3795 E Mercer Way\, Mercer Island\, Washington\, 98040\, Verenigde Staten
CATEGORIES:Culturele evenementen
END:VEVENT
BEGIN:VEVENT
DTSTART;TZID=America/Los_Angeles:20251129T093000
DTEND;TZID=America/Los_Angeles:20251129T123000
DTSTAMP:20260419T101201
CREATED:20250725T233420Z
LAST-MODIFIED:20250725T234109Z
UID:1843-1764408600-1764419400@www.oranjeschool.org
SUMMARY:Thanksgiving Break - Geen les
DESCRIPTION:
URL:https://www.oranjeschool.org/en/kalender/thanksgiving-break-geen-les-3/
CATEGORIES:Lestijden
END:VEVENT
BEGIN:VEVENT
DTSTART;TZID=America/Los_Angeles:20251122T093000
DTEND;TZID=America/Los_Angeles:20251122T123000
DTSTAMP:20260419T101201
CREATED:20250725T234109Z
LAST-MODIFIED:20250725T234109Z
UID:1880-1763803800-1763814600@www.oranjeschool.org
SUMMARY:Oranjeschool - Week 12
DESCRIPTION:
URL:https://www.oranjeschool.org/en/kalender/oranjeschool-week-12-4/
LOCATION:French American School of Puget Sound\, 3795 E Mercer Way\, Mercer Island\, Washington\, 98040\, Verenigde Staten
CATEGORIES:Lestijden
END:VEVENT
BEGIN:VEVENT
DTSTART;TZID=America/Los_Angeles:20251115T093000
DTEND;TZID=America/Los_Angeles:20251115T123000
DTSTAMP:20260419T101201
CREATED:20250725T233419Z
LAST-MODIFIED:20250725T234109Z
UID:1841-1763199000-1763209800@www.oranjeschool.org
SUMMARY:Oranjeschool - Week 11
DESCRIPTION:
URL:https://www.oranjeschool.org/en/kalender/oranjeschool-week-11-3/
LOCATION:French American School of Puget Sound\, 3795 E Mercer Way\, Mercer Island\, Washington\, 98040\, Verenigde Staten
CATEGORIES:Lestijden
END:VEVENT
BEGIN:VEVENT
DTSTART;TZID=America/Los_Angeles:20251108T093000
DTEND;TZID=America/Los_Angeles:20251108T123000
DTSTAMP:20260419T101201
CREATED:20250725T233404Z
LAST-MODIFIED:20250725T234053Z
UID:1835-1762594200-1762605000@www.oranjeschool.org
SUMMARY:Oranjeschool - Week 10 (ONLINE)
DESCRIPTION:
URL:https://www.oranjeschool.org/en/kalender/oranjeschool-week-10-online-2/
CATEGORIES:Lestijden
END:VEVENT
BEGIN:VEVENT
DTSTART;TZID=America/Los_Angeles:20251101T093000
DTEND;TZID=America/Los_Angeles:20251101T123000
DTSTAMP:20260419T101201
CREATED:20250725T233404Z
LAST-MODIFIED:20250725T234053Z
UID:1834-1761989400-1762000200@www.oranjeschool.org
SUMMARY:Oranjeschool - Week 9
DESCRIPTION:
URL:https://www.oranjeschool.org/en/kalender/oranjeschool-week-9-3/
LOCATION:French American School of Puget Sound\, 3795 E Mercer Way\, Mercer Island\, Washington\, 98040\, Verenigde Staten
CATEGORIES:Lestijden
END:VEVENT
BEGIN:VEVENT
DTSTART;TZID=America/Los_Angeles:20251025T093000
DTEND;TZID=America/Los_Angeles:20251025T123000
DTSTAMP:20260419T101201
CREATED:20250725T233404Z
LAST-MODIFIED:20250725T234053Z
UID:1833-1761384600-1761395400@www.oranjeschool.org
SUMMARY:Oranjeschool - Week 8
DESCRIPTION:
URL:https://www.oranjeschool.org/en/kalender/oranjeschool-week-8-3/
LOCATION:French American School of Puget Sound\, 3795 E Mercer Way\, Mercer Island\, Washington\, 98040\, Verenigde Staten
CATEGORIES:Lestijden
END:VEVENT
BEGIN:VEVENT
DTSTART;TZID=America/Los_Angeles:20251018T093000
DTEND;TZID=America/Los_Angeles:20251018T123000
DTSTAMP:20260419T101201
CREATED:20250725T233404Z
LAST-MODIFIED:20250725T234053Z
UID:1832-1760779800-1760790600@www.oranjeschool.org
SUMMARY:Oranjeschool - Week 7
DESCRIPTION:
URL:https://www.oranjeschool.org/en/kalender/oranjeschool-week-7-3/
LOCATION:French American School of Puget Sound\, 3795 E Mercer Way\, Mercer Island\, Washington\, 98040\, Verenigde Staten
CATEGORIES:Lestijden
END:VEVENT
BEGIN:VEVENT
DTSTART;TZID=America/Los_Angeles:20251011T093000
DTEND;TZID=America/Los_Angeles:20251011T123000
DTSTAMP:20260419T101201
CREATED:20250725T233403Z
LAST-MODIFIED:20250725T234053Z
UID:1831-1760175000-1760185800@www.oranjeschool.org
SUMMARY:Oranjeschool - Week 6
DESCRIPTION:Kinderboekenweek
URL:https://www.oranjeschool.org/en/kalender/oranjeschool-week-6-3/
LOCATION:French American School of Puget Sound\, 3795 E Mercer Way\, Mercer Island\, Washington\, 98040\, Verenigde Staten
CATEGORIES:Culturele evenementen
END:VEVENT
BEGIN:VEVENT
DTSTART;TZID=America/Los_Angeles:20251004T093000
DTEND;TZID=America/Los_Angeles:20251004T123000
DTSTAMP:20260419T101201
CREATED:20250725T233400Z
LAST-MODIFIED:20250725T234050Z
UID:1830-1759570200-1759581000@www.oranjeschool.org
SUMMARY:Oranjeschool - Week 5
DESCRIPTION:
URL:https://www.oranjeschool.org/en/kalender/oranjeschool-week-5-3/
LOCATION:French American School of Puget Sound\, 3795 E Mercer Way\, Mercer Island\, Washington\, 98040\, Verenigde Staten
CATEGORIES:Lestijden
END:VEVENT
BEGIN:VEVENT
DTSTART;TZID=America/Los_Angeles:20250927T093000
DTEND;TZID=America/Los_Angeles:20250927T123000
DTSTAMP:20260419T101201
CREATED:20250725T233400Z
LAST-MODIFIED:20250725T234050Z
UID:1829-1758965400-1758976200@www.oranjeschool.org
SUMMARY:Oranjeschool - Week 4
DESCRIPTION:
URL:https://www.oranjeschool.org/en/kalender/oranjeschool-week-4-3/
LOCATION:French American School of Puget Sound\, 3795 E Mercer Way\, Mercer Island\, Washington\, 98040\, Verenigde Staten
CATEGORIES:Lestijden
END:VEVENT
END:VCALENDAR